BEGIN:VCALENDAR
VERSION:2.0
PRODID:-//Capixabinha - ECPv6.2.8.1//NONSGML v1.0//EN
CALSCALE:GREGORIAN
METHOD:PUBLISH
X-ORIGINAL-URL:https://capixabinhanorock.com
X-WR-CALDESC:Events for Capixabinha
REFRESH-INTERVAL;VALUE=DURATION:PT1H
X-Robots-Tag:noindex
X-PUBLISHED-TTL:PT1H
BEGIN:VTIMEZONE
TZID:America/Sao_Paulo
BEGIN:STANDARD
TZOFFSETFROM:-0300
TZOFFSETTO:-0300
TZNAME:-03
DTSTART:20230101T000000
END:STANDARD
END:VTIMEZONE
BEGIN:VEVENT
DTSTART;TZID=America/Sao_Paulo:20231125T180000
DTEND;TZID=America/Sao_Paulo:20231230T230000
DTSTAMP:20260425T092011
CREATED:20231126T165911Z
LAST-MODIFIED:20231126T165911Z
UID:6094-1700935200-1703977200@capixabinhanorock.com
SUMMARY:Show dos Beatles para Crianças na véspera de Natal!
DESCRIPTION:Preparem-se para uma experiência musical e divertida para toda a família! O espetáculo “BEATLES PARA CRIANÇAS” está chegando em São Paulo\, trazendo os sucessos do quarteto de Liverpool adaptadas para os pequenos\, mesclando histórias contadas e cantadas. \nCOMPRE AQUI SEU INGRESSO\nO show será no dia 23 de dezembro\, no Teatro Opus Frei Caneca\, com sessões às 11h e às 14h. \nLeia mais: Musical ‘A Christmas Carol’\, estrelado por Miguel Falabella\, estimula a representatividade e magia do Natal \nPreparado para dançar e cantar muito com os seus filhos?\nAo som dos músicos do BPC – Beatles para Crianças\, a plateia é convidada a participar de uma jornada musical interativa. Antes mesmo do espetáculo começar\, a banda sugere quatro movimentos básicos do rock para as crianças se prepararem: \nCOMPRE AQUI SEU INGRESSO\nLevante os braços\, soque o ar;\nBalance a cabeça;\nDance loucamente\,\nFaça o solo imaginário de guitarra\, também conhecido como air guitar.\nO show é uma experiência envolvente\, onde pais e filhos cantam\, dançam e se divertem juntos. Ao final\, cada participante recebe o certificado do “Meu primeiro show de rock“\, marcando esse momento especial. \nTrilha sonora e instrumentos divertidos\nA banda apresentará um setlist repleto de clássicos\, como “Hey Jude\,” “Twist and Shout\,” “Yellow Submarine”\, entre outros. Durante o espetáculo\, os músicos também introduzem as crianças a diversos instrumentos musicais\, como ukulele\, washboard\, keytar e kazoo. \nOnde encontrar o Papai Noel em São Paulo? Acesse nosso “localizador” de Noel e ache o Bom Velhinho mais próximo de você! \nQuem é a banda Beatles para Crianças?\nFormado em 2014\, o grupo foi criado pelos educadores Fábio Freire e Gabriel Manetti com o objetivo de promover a musicalização\, a iniciação ao rock e a língua a partir das canções dos Beatles. \nCOMPRE AQUI SEU INGRESSO\nAté o momento\, o Beatles para Crianças conta com dois discos lançados: o CD\, Beatles Para Crianças\, de 2016; e o segundo álbum\, Beatles Para Crianças 2 – A Bagunça Continua\, de 2018. \nO grupo musical é composto por Fábio Freire na guitarra e voz\, Gabriel Manetti na voz\, Eduardo Puperi na guitarra e teclado\, Marcos Klis no contrabaixo e Humberto Zigler na bateria. \nNatal em SP 2023: Confira a programação completa com passeios\, decorações\, shows e muito Papai Noel \nQuanto custam os ingressos?\nA inteira custa a partir de R$50\,00. \nCOMPRE AQUI SEU INGRESSO\nRegras para descontos em ingressos: aproveite as vantagens!\n50% para idosos (60 anos ou mais): apresentação obrigatória de identidade ou documento oficial com foto;\n50% estudantes: apresentação da Carteira de Identificação Estudantil (CIE) no momento da compra e entrada;\n50% para crianças e jovens (24 meses a 15 anos): benefício concedido pelo Teatro\, mediante apresentação de documento de identidade oficial com foto;\n50% para pessoas com deficiência e acompanhante quando necessário: apresentação do cartão de Benefício de Prestação Continuada da Assistência Social da Pessoa com Deficiência. Necessidade de laudo médico ou documento oficial com foto contendo a numeração do CID;\n50% professores da rede pública estadual e das redes municipais de ensino: Carteira funcional emitida pela Secretaria da Educação de São Paulo ou holerite acompanhado de documento oficial com foto;\n50% diretores\, coordenadores\, supervisores nas redes Estadual e Municipal de Ensino: Conforme a Lei Estadual\nn.º 15.298/14\, com apresentação de carteira funcional ou holerite com documento oficial com foto;\n50% jovens de baixa Renda (15 a 29 anos): Apresentação da Carteira de Identidade Jovem emitida pela Secretaria Nacional de Juventude\, acompanhada de documento de identidade oficial com foto. Benefício assegurado para 40% do total de ingressos disponíveis\, conforme Decreto\nn.º 8.537/15\,\nOutros Descontos: 50% de desconto para Sócios Clube Opus (limite de 02 ingressos por sócio\, 30 ingressos por sessão) e 30% de desconto para lojistas do shopping (limite de 60 ingressos por sessão).\nÉ grátis! Clique aqui! Receba a agenda completinha de passeios para levar as crianças em São Paulo no seu e-mail! \nAtenção:\nDescontos não cumulativos; o beneficiário deve optar por sua preferência.\nDocumentos devem ser apresentados no ato da compra e na entrada do evento.\nCaso documentos não sejam apresentados ou comprovem a condição\, será exigido o pagamento da diferença de valor.
URL:https://capixabinhanorock.com/evento/show-dos-beatles-para-criancas-na-vespera-de-natal/
LOCATION:Shopping Vila Velha\, Av. Luciano das Neves\, 2418 - Centro de Vila Velha\, Vila Velha - ES\,\, Vila Velha\, ES\, 29107-900\, Brasil
CATEGORIES:Gratuitos
ATTACH;FMTTYPE=image/jpeg:https://capixabinhanorock.com/wp-content/uploads/2023/11/sp_criancas_passeio_beatles_para_criancas_21-800x533-1.jpg
END:VEVENT
BEGIN:VEVENT
DTSTART;VALUE=DATE:20231126
DTEND;VALUE=DATE:20240101
DTSTAMP:20260425T092011
CREATED:20231126T170905Z
LAST-MODIFIED:20231127T173638Z
UID:6098-1700956800-1704067199@capixabinhanorock.com
SUMMARY:“Chaves: A Exposição” chega ao MIS Experience
DESCRIPTION:O MIS Experience\, em São Paulo\, está prestes a sediar um evento imperdível para os fãs de Chaves: trata-se da maior exposição já realizada no mundo\, dedicada à obra de Roberto Bolaños. \nCOMPRE AQUI SEU INGRESSO\nIntitulada “Chaves: A Exposição“\, a mostra terá início em 5 de janeiro de 2024\, comemorando os 40 anos da estreia da série no Brasil. \nEsta exposição promete transportar os visitantes para mais de 20 cenários icônicos de Chaves\, incluindo as duas partes da vila da série principal e outros locais memoráveis que deixaram sua marca em Chapolin. \nÉ uma oportunidade única para vivenciar de perto o universo encantador criado por Roberto Gómez Bolaños. \nCOMPRE AQUI SEU INGRESSO\nPara ver com os filhos: 20 desenhos que marcaram sua infância e estão na Netflix \nO que vai rolar na exposição?\nAlém dos cenários\, “Chaves: A Exposição“ apresentará um acervo exclusivo composto por figurinos\, objetos e roteiros originais\, diretamente trazidos do México para enriquecer a mostra. \nOs visitantes também terão acesso a informações fascinantes sobre a vida e a obra de Roberto Gómez Bolaños\, o criador conhecido como Chespirito. \nOs ingressos para a exposição já estão disponíveis para compra! E como uma novidade especial\, às terças-feiras\, a entrada é gratuita\, os ingressos devem ser retirados exclusivamente na bilheteria física do MIS Experience no dia da visita. \nCOMPRE AQUI SEU INGRESSO\nInformações Práticas sobre “Chaves: A Exposição”:\n????Horário de funcionamento:\nTerça à Sexta (10h às 20h)\nSábado (10h às 21h)\nDomingos e Feriados (10h às 20h)\n????Endereço:\nR. Cenno Sbrighi\, 250 – Água Branca – São Paulo-SP \n????️Quanto custa o ingresso?\nQuarta à Sexta: R$40 (inteira) e R$20 (meia)\nSábado\, Domingo e Feriado: R$60 (inteira) e R$30 (meia) – Valores consultados em 24/11/2023\nMeia-Entrada para: \nEstudantes\nJovens de baixa renda (apresentar registro no CádÚnico)\nPessoas com deficiência e um acompanhante\nIdosos (60 anos ou mais)\nAposentados\nLeia mais: Jogos de escape são opções de diversão em família para crianças e adultos \nO benefício da meia-entrada só é garantido mediante apresentação de comprovação no dia do evento. \nCOMPRE AQUI SEU INGRESSO\nSerão tolerados atrasos de até 15 minutos\, e a permanência sugerida é de 60 minutos. Trocas e cancelamentos serão permitidos se a solicitação for feita via telefone\, email ou WhatsApp até 24 horas antes do evento.
URL:https://capixabinhanorock.com/evento/chaves-a-exposicao-chega-ao-mis-experience/
LOCATION:Restaurante Caranguejo do Assis\, Av. da Praia\, 290 - Praia de Itaparica\, Vila Velha\, ES\, 29102-085\, Brasil
CATEGORIES:Para o Mês
ATTACH;FMTTYPE=image/jpeg:https://capixabinhanorock.com/wp-content/uploads/2023/11/sp_criancas_chaves-a-exposicao-divulgacao-800x450-1.jpg
END:VEVENT
BEGIN:VEVENT
DTSTART;VALUE=DATE:20231127
DTEND;VALUE=DATE:20250101
DTSTAMP:20260425T092011
CREATED:20231127T174110Z
LAST-MODIFIED:20231214T164051Z
UID:6201-1701043200-1735689599@capixabinhanorock.com
SUMMARY:Hamburgueria temática de dinossauros oficial da Universal Studios
DESCRIPTION:Os apaixonados pelo clássico cinematográfico dos anos 90\, Jurassic Park\, têm motivos para comemorar! Pois o Jurassic Park Burger Restaurant\, foi inaugurado e é muito mais do que um restaurante temático de dinossauros. Com uma área de 2 mil m²\, ele oferece uma imersão nas cenas do filme e vai encantar as crianças. \nFAÇA AQUI SUA RESERVA\nNo ambiente\, os visitantes podem participar de um tour por mais de 20 ambientes decorados com dinossauros e itens cenográficos produzidos pela Iron Studios. \nAlém disso\, há experiências com sons\, cheiros e objetos táteis\, assim como a exibição de cenas autorizadas pela Universal Studios e Amblin Entertainment\, produtora de Steven Spielberg. \nO restaurante está localizado no Golden Square Shopping\, no 2º andar\, em São Bernardo do Campo\, funciona todos os dias\, incluindo feriados e fins de semana\, das 10h30 às 22h30. \nFAÇA AQUI SUA RESERVA\nLeia mais: Dinolovers: passeios para pequenos aventureiros que amam dinossauros e dragões \nQuanto custa para ir no Jurassic Park Burger Restaurant?\nÉ necessário realizar uma reserva feita pela internet ou aplicativo\, com uma taxa de R$30\,00 (por pessoa)\, que é revertida em consumação no restaurante. \nO cardápio é exclusivo e desenvolvido pelo chef Bazilho\, e conta com opções temáticas\, incluindo hamburgueres de 150g\, pratos especiais\, saladas e sobremesas que complementam a experiência imersiva do restaurante. Os burgers tem preços a partir de R$19\,00. \nAs reservas contemplam o tempo de permanência máxima de 1h30 na mesa escolhida na hamburgueria. \nFAÇA AQUI SUA RESERVA\nApós isso os visitantes que comprarem o Combo Experience\, nos caixas da hamburgeria\, serão direcionados para o Centro de Visitantes do Jurassic Park\, para vivenciar experiências durante cerca de uma hora\, com valores a partir de R$99\,00. \nLeia mais: Restaurante temático de dinossauros oferece experiência imersiva com apresentações e rodízio \nO restaurante não possui área kids ou brinquedos\, e crianças até 4 anos (necessário apresentar documento) não pagam para entrar na experiência. \nPets são bem vindos!\nPets são bem-vindos apenas na área externa\, e por ordem de chegada. \nFAÇA AQUI SUA RESERVA\nComprinhas\nO espaço também conta com uma loja oficial da Universal Studios\, integrada à Iron Studios Store\, onde os visitantes podem adquirir action figures e gifts exclusivos relacionados ao filme.
URL:https://capixabinhanorock.com/evento/hamburgueria-tematica-de-dinossauros-oficial-da-universal-studios/
LOCATION:Restaurante Caranguejo do Assis\, Av. da Praia\, 290 - Praia de Itaparica\, Vila Velha\, ES\, 29102-085\, Brasil
CATEGORIES:Hoje
ATTACH;FMTTYPE=image/jpeg:https://capixabinhanorock.com/wp-content/uploads/2023/11/hamburgueria-2-800x534-1.jpeg
END:VEVENT
END:VCALENDAR